BEGIN:VCALENDAR
PRODID:-//eluceo/ical//2.0/EN
VERSION:2.0
CALSCALE:GREGORIAN
BEGIN:VEVENT
UID:58fa1a841cfd48006bde47e1d4391b1c
DTSTAMP:20260422T101845Z
SUMMARY:Diner Centenaire de la Fondation
DESCRIPTION:Diner avec conjoints : 26\,50€ seront reversés à la Fondati
 on.
URL:https://guingamp.rotary-bretagne-mayenne.org/fr/agenda/show/7861
DTSTART;TZID=Europe/Zurich:20170425T190000
DTEND;TZID=Europe/Zurich:20170425T190000
LOCATION:Au Club
CATEGORIES:Rotary
END:VEVENT
BEGIN:VTIMEZONE
TZID:Europe/Zurich
BEGIN:DAYLIGHT
DTSTART:20170425T190000
TZNAME:CEST
TZOFFSETTO:+0200
TZOFFSETFROM:+0200
END:DAYLIGHT
END:VTIMEZONE
END:VCALENDAR
